BEGIN:VCALENDAR
VERSION:2.0
METHOD:PUBLISH
X-WR-CALNAME: Calendario | Facultad de Filosofía y Letras - UBA
PRODID:-//Drupal iCal API//EN
BEGIN:VEVENT
UID:calendar.2537.changed.0.0
SUMMARY:Actividad extracurricular
DTSTAMP:20260425T235805Z
DTSTART:20260425Z
DTEND:20260425Z
1777161110
URL;VALUE=URI:https://antropologia.filo.uba.ar/novedades/actividad-extracurricular
END:VEVENT
END:VCALENDAR
