BEGIN:VCALENDAR
VERSION:2.0
METHOD:PUBLISH
X-WR-CALNAME: Calendario | Facultad de Filosofía y Letras - UBA
PRODID:-//Drupal iCal API//EN
BEGIN:VEVENT
UID:calendar.2536.changed.0.0
SUMMARY:ACERCAMIENTO A LA PRÁCTICA ARQUEOLÓGICA 2026
DTSTAMP:20260425T120834Z
DTSTART:20260425Z
DTEND:20260425Z
1777129558
URL;VALUE=URI:https://antropologia.filo.uba.ar/novedades/acercamiento-la-pr%C3%A1ctica-arqueol%C3%B3gica-2026
END:VEVENT
END:VCALENDAR
